Workbook

Sheet Présentation
A1: Auto-évaluation des compétences parentales et de la relation familiale pour les enfants suivis dans un dispositif de prise en charge du surpoids
A3: CN-RéPPOP - APOP 2023
A5: CREATION DE SYNTHESES PERSONNALISEES
A7: Bonjour,
A8: Durant les journées nationales de l’APOP en 2020 il a été question de constituer un groupe travaillant sur la parentalité. Cette équipe a rapidement commencé à travailler sur la question des compétences parentales, prenant aussi en compte les compétences pour les enfants et (éventuellement) les compétences professionnelles pour les acteurs du soin.
A9: Notre objectif est de travailler sur la relation entre les parents et les enfants, afin d’améliorer l’accompagnement des enfants en surpoids ou en obésité. Ainsi, le tableau des compétences, a été utilisé pour construire un outil d’évaluation de compétences parentales et de relation familiale pour les enfants. Il a été testé dans un dispositif d’accompagnement pluriprofessionnel du type RéPPOP.
A10: Le fichier que vous avez devant vous constitue une aide pour la passation et l’analyse individuelle permet de construire une synthèse personnalisée rapide. Il comporte plusieurs feuilles :
A12: A. Compétences : notre tableau décline les compétences, pour les parents et les enfants, associées à chaque groupe thématique
A13: B. Instructions : manuel rapide pour la passation du questionnaire et permettant de rentrer les données des parents et enfants dans cet outil
A14: C. Questionnaire parents : Le questionnaire pour les adultes en version imprimable. Les cases jaunes vous permettent de rentrer les réponses du père et/ou de la mère, afin d’obtenir la synthèse personnalisée. (La page est configurée pour imprimer le questionnaire qui peut être donnée aux parents en format papier. Vous pouvez aussi laisser les parents répondre directement sur l’ordinateur)
A15: D. Questionnaire enfants : Le questionnaire pour les enfants en version imprimable. Les cases jaunes vous permettent de rentrer les réponses de l’enfant, afin d’obtenir la synthèse personnalisée. (La page est configurée pour imprimer le questionnaire qui peut être donnée à l’enfant en format papier. Vous pouvez aussi laisser l’enfant répondre directement sur l’ordinateur)
A16: E. Synthèse Compétences : Première feuille des analyses automatiques, principalement pour les professionnels (vous) mais qui peut servir aussi d’outil d l’échange avec les familles.
... A24: · Ecart : lorsque l’un des deux (parent(s), enfant) à donner une note élevée et l’autre une note faible, constituant un écart de 4 points ou plus. Les deux colonnes à droite renseignent la note des parents et celle de l’enfant.

Sheet A. Compétences 
B1: THEME | C1: Code Parents | D1: Compétence Parent | E1: Questionnaire Parents | F1: Code Parents | G1: Compétence Enfant | H1: Questionnaire Enfants
A2: Attachement & Relations | B2: Confiance en soi | C2: AA.confiancesoi | D2: Être soi-même sécure | E2: Lorsque je dois prendre une décision, il est facile pour moi de faire ce que j’ai décidé | F2: AA.confiancesoi | G2: S’appuyer sur les compétences parentales | H2: Je sais que si je prends une décision, mes parents vont me soutenir s’ils sont d’accord
A3: Attachement & Relations | B3: Confiance en sa capacité à répondre aux besoins de son enfant / Confiance aux autres | C3: AB.Confianceautres | D3: Garantir le sentiment de sécurité de ses enfants | E3: Lorsque mon enfant a besoin d’aide, je l’aide de façon satisfaisante pour lui | F3: AB.Confianceautres | G3: Avoir confiance en ses parents | H3: Je peux demander à mes parents de l'aide lors que j’en ai besoin
A4: Attachement & Relations | B4: Compréhension de la singularité de chacun | C4: AC.Singularité | D4: Reconnaitre son enfant dans sa singularité et le détacher de son histoire personnelle | E4: Mon enfant peut avoir des idées ou des émotions différentes des miennes | F4: AC.Singularité | G4: Exprimer ses propres besoins en lien avec son identité personnelle | H4: J’arrive à dire à mes parents ce que je pense, même si je ne suis pas d’accord avec eux
A5: Attachement & Relations | B5: Communication | C5: AD.communication1et2 | D5: Communiquer avec son enfant de façon adaptée en favorisant un climat de confiance | E5: Je sais encourager mon enfant à se confier à moi et je l’écoute attentivement | F5: AD.communication1 | G5: S'exprimer librement | H5: Quand je parle à mes parents de ce que je vis au quotidien, ils m'écoutent attentivement
F6: AD.communication2 | G6: Comprendre l'importance de communiquer
A7: Emotions | B7: Connaissance, compréhension | C7: EA.Connaissance | D7: Reconnaître et verbaliser ses propres émotions | E7: Je sais reconnaitre les émotions que je vis et je sais les nommer | F7: EA.Connaissance | G7: Reconnaître et verbaliser ses propres émotions | H7: Je sais reconnaitre les émotions que je vis et je sais les nommer
A8: Emotions | B8: Expression | C8: EB.Expression | D8: Expliciter ses propres émotions à son entourage de façon adaptée en fonction de l'interlocuteur | E8: Il est facile pour moi de parler de ce que je ressens | F8: EB.Expression | G8: Expliciter ses propres émotions à son entourage | H8: Il est facile pour moi de parler de ce que je ressens
A9: Emotions | B9: Comportement | C9: EX.Comportement | D9: Mettre en lien un comportement spécifique et une émotion | E9: Je me rends compte de mes changements de comportement en fonction de mon émotion (ex : la colère me fait crier, la tristesse me fait pleurer) | F9: EX.Comportement | G9: Repérer les comportements qui découlent de ses émotions | H9: Je me rends compte de mes changements de comportement en fonction de mon émotion (la colère me fait crier, la tristesse me fait pleurer)
A10: Emotions | B10: Empathie | C10: ED.Emphatie1et2 | D10: Favoriser l’expression des émotions des membres de sa famille | E10: J’aide mon enfant à reconnaître et exprimer ses émotions | F10: ED.Emphatie1 | G10: Être capable d’entendre et comprendre les émotions des autres | H10: Je me rends compte qu’un même évènement peut produire, chez les autres, des émotions différentes des miennes
F11: ED.Emphatie2 | G11: Dissocier ses émotions de celles de ses parents
A12: Besoins | B12: Connaissance et compréhension (développement de l'enfant) | C12: BA.Connaissance | D12: Avoir des repères sur les besoins physiologiques de l'enfant en fonction de son développement | E12: Je connais les étapes du développement de mon enfant et les besoins qu'il/elle a selon son âge | F12: BA.Connaissance | G12: Identifier ses besoins physiologiques | H12: Je me rends compte de mes besoins (quand j'ai faim, soif, envie de dormir, d'aller aux toilettes, de repos d'un câlin…)
A13: Besoins | B13: Expression | C13: BB.Expression | D13: Identifier les besoins de son enfant à travers ses attitudes et ses comportements. | E13: En regardant le comportement et l'attitude de mon enfant, je peux savoir s'il a faim, soif, envie d'aller aux toilettes, de dormir, d'un câlin… | F13: BB.Expression | G13: Savoir exprimer ses besoins physiologiques | H13: Je suis capable de dire mes besoins
A14: Besoins | B14: Comportement | C14: BC.Comportement | D14: Répondre de façon adaptée en fonction du développement de son enfant | E14: Quand j'identifie un besoin chez mon enfant, je lui propose quelque chose qui lui est utile et qu’il accepte | F14: BC.Comportement | G14: Expérimenter le bénéfice de la réponse apportée par les parents | H14: Mes parents savent répondre à mes besoins et ça me fait du bien
A15: Besoins | B15: Priorisation | C15: BD.Priorisation | D15: Prioriser, anticiper et organiser le quotidien | E15: J'arrive à organiser mon quotidien en tenant compte des besoins et du rythme de mon enfant | F15: BD.Priorisation | G15: S'impliquer et trouver sa place dans l'organisation familiale | H15: Je participe à l'organisation du quotidien (ranger ma chambre, ranger les courses, faire mon lit, mettre la table…)
A16: Cadre Educatif | B16: Négociation - style démocratique | C16: CA.Negociation | D16: Apprendre à poser un cadre éducatif en favorisant l’autonomie (en fonction de l’âge) et en ayant intégré le bénéfice pour l’enfant | E16: Lorsque je donne une consigne à mon enfant, je prends en compte son âge et il/elle sait ce qu'il/elle doit faire | F16: CA.Negociation | G16: Prendre part aux décisions le concernant, tout en respectant le cadre instauré | H16: Je peux donner mon avis à la maison et il est entendu
A17: Cadre Educatif | B17: Rôles attribués aux parents, aux enfants (exemplarité des parents) | C17: CB.Roles1 | D17: Apprendre à maintenir les règles sur le long terme ou à les adapter si nécessaire | E17: Lorsque je prends une décision, je la tiens tant que les raisons qui la justifient ne changent pas | F17: CB.Roles1et2 | G17: Apprendre à respecter le cadre et les consignes données | H17: Quand on me donne des consignes, je les comprends et les respecte
A18: Cadre Educatif | B18: Rôles attribués aux parents, aux enfants (exemplarité des parents) | C18: CC.Roles2 | D18: Restaurer son sentiment d’auto-efficacité | E18: J'ai l'impression que j'éduque bien mes enfants
A19: Cadre Educatif | B19: Rôles attribués aux parents, aux enfants (exemplarité des parents) | C19: CD.Roles3 | D19: Être conscient de son rôle d’exemple | E19: J’ai conscience que ce que je fais a au moins autant d’importance que ce que je dis. | F19: CD.Roles3 | G19: Prendre modèle sur ses parents (en tenant compte de ce qui est possible à certains âges et pas à d’autres et des limites des parents) | H19: Lorsque je pense que le comportement de mes parents est adapté, je sais prendre exemple sur eux
A20: Cadre Educatif | B20: Cohérence (parents en couple / parents séparés) | C20: CE.Coherence1 | D20: S'accorder sur un cadre commun entre parents en respectant les différences et le rôle de chacun | E20: Avec l’autre parent, on réfléchit aux réponses que nous donnons aux enfants. Ils savent que si l'un des deux a dit non, cela ne sert à rien de demander l'avis de l'autre | F20: CE.Coherence1 | G20: Repérer les différences entre les deux parents | H20: Je connais les règles sur lesquelles mes parents ne sont pas d’accord entre eux
A21: Cadre Educatif | B21: Cohérence (parents en couple / parents séparés) | C21: CE.Coherence2 | D21: Harmoniser les pratiques éducatives à l'échelle familiale | E21: Les règles et principes de base à la maison (dans les grandes lignes) sont valables aussi bien pour tous les enfants que pour les adultes. | F21: CE.Coherence2 | G21: Comprendre l'intérêt des mesures mises en place par les parents pour toute la famille, pour mieux les intégrer (et négocier si besoin) | H21: Lorsque les parents ont convenu quelque chose à la maison, chacun peut donner son avis et respecte la décision prise
A22: Surpoids & Obésité | B22: Compréhension du cadre éducatif et relationnel | C22: SA.Comprehensioncadre | D22: Être clair dans les consignes en lien avec la pathologie de leur enfant | E22: J'arrive à expliquer avec des mots simples ce que j'attends de mon enfant en ce qui concerne son surpoids | F22: SA.Comprehensioncadre | G22: Savoir ce qui est négociable et ce qui ne l’est pas en fonction de l’âge | H22: Je sais ce qui est négociable avec mes parents concernant mon surpoids
A23: Surpoids & Obésité | B23: Compréhension de la maladie selon les grands groupes de facteurs | C23: SB.Comprehensionmaladie | D23: Comprendre les raisons du surpoids de son enfant (alimentation, activité physique, sommeil, écrans…) | E23: Je comprends les causes du surpoids de mon enfant (génétique, alimentation, activité physique, sommeil, écrans…) | F23: SB.Comprehensionmaladie | G23: Comprendre les raisons de sa prise de poids | H23: Je comprends les raisons de ma prise de poids (génétique, alimentation, activité physique, sommeil, écrans…)
A24: Surpoids & Obésité | B24: Compréhension PEC | C24: SC.ComprehensionPEC1 | D24: Identifier les freins sur lesquels ils peuvent progresser avec leur enfant | E24: Je suis capable d'identifier deux difficultés dans la prise en charge du surpoids de mon enfant | F24: SC.ComprehensionPEC1 | G24: Identifier les freins et les partager avec ses parents | H24: Je suis capable d'identifier deux difficultés dans la prise en charge de mon surpoids et peux les dire à mes parents
A25: Surpoids & Obésité | C25: SC.ComprehensionPEC2 | D25: Identifier les leviers sur lesquels ils peuvent agir avec leur enfant | E25: Je suis capable d'identifier deux points forts de mon enfant dans la prise en charge de son surpoids | F25: SC.ComprehensionPEC2 | G25: Identifier les leviers et les partager avec ses parents | H25: Je suis capable d'identifier deux points forts que j'ai dans la prise en charge de mon surpoids
A26: Surpoids & Obésité | B26: Attachement : Soutien dans la prise en charge | C26: SD.Attachement | D26: Soutenir l’enfant dans sa prise en charge | E26: J'encourage mon enfant à mettre en place ce qu'il doit faire pour la prise en charge de son surpoids | F26: SD.Attachement | G26: Accepter l'aide de ses parents | H26: Je me sens encouragé par mes parents et j'accepte leur aide dans la prise en charge de mon surpoids
A27: Surpoids & Obésité | B27: Emotions Alimentation émotionnelle | C27: SE.Alimentationemotionnelle | D27: Répondre de façon adaptée à l’état émotionnel de l’enfant (ex : autrement que par l’alimentation) | E27: Je connais au 2 activités que mon enfant peut mettre en place pour gérer ses émotions négatives (tristesse, colère, peur, dégoût, ennui …) autres que la nourriture ou les écrans | F27: SE.Alimentationemotionnelle | G27: Répondre de façon adaptée à son propre état émotionnel (ex : autrement que par l’alimentation) | H27: Je connais au moins 2 activités pour gérer mes émotions négatives (tristesse, colère, peur, dégoût, ennui …) autres que la nourriture ou les écrans
A28: Surpoids & Obésité | B28: Prise en charge | C28: SF.PEC1et2 | D28: Solliciter l'aide des professionnels de santé spécialisés en faisant alliance avec eux | E28: Je me sens en confiance avec les professionnels qui accompagnement mon enfant dans la prise en charge de son surpoids et je peux leur demander de l'aide. | F28: SF.PEC1 | G28: Percevoir l'intérêt d'être accompagné dans la PEC et s'y investir | H28: Je comprends l’importance que des professionnels m'aident à gérer mon surpoids
F29: SG.PEC2 | G29: Demander de l'aide à ses parents pour une PEC adaptée | H29: Je peux demander l'aide de mes parents en ce qui concerne la prise en charge de mon surpoids

Sheet B. Instructions
A1: =Présentation!A1 -> Auto-évaluation des compétences parentales et de la relation familiale pour les enfants suivis dans un dispositif de prise en charge du surpoids
A3: =Présentation!A3 -> CN-RéPPOP - APOP 2023
A4: MODE D'EMPLOI
A5: OUTIL DE CREATION DE SYNTHESES PERSONNALISEES
A7: Public
A8: Enfant à partir de neuf (9) ans présentant un surpoids ou une obésité et au moins un de ses parents
A9: Tout professionnel impliqué dans la prise en charge du patient et de sa famille. (Le professionnel qui effectue la passation en fera la restitution à la famille)
A11: Contexte :
A12: Auto-questionnaire (cabinet libéral ou en milieu hospitalier) ou au cours d'un entretien avec un professionnel.
A14: Objectif pédagogique :
A15: Evaluer la relation entre parents et l'enfant selon 5 thématiques : attachement et relations, émotions, besoins, cadre éducatif, surpoids et obésité
A16: Permettre une meilleure compréhension des interactions familiales tant pour le professionnel que pour l'enfant et sa famille, en s'appuyant sur les informations concernant la vie de famille.
A17: Accompagner les parents vers une meilleure compréhesion de la façon dont ils exercent leur rôle de parent, et les enfants vers une meilleure compréhension de la façon dont les parents les soutiennent. (peuvent les soutenir)
A18: Identifier des freins et des ressources permettant d'adapter l'accompagnement pluriprofessionnel des jeunes en surcharge pondérale et renforcer l'alliance thérapeutique
... A37: 40 minutes pour la restitution

Sheet C. Quest Parents
A1: Code Parents | B1: Theme | C1: Question | D1: PÈRE / PARENT 1 Ce que vous vivez à la maison (0 – 10) | E1: MÈRE / PARENT 2 Ce que vous vivez à la maison (0 – 10) | F1: Moyenne parents Ce que vous vivez à la maison (0 – 10) | G1: Moyenne père groupe thematique | H1: Moyenne mère groupe thematique | I1: Moyenne parents groupe thematique
A2: AA.confiancesoi | B2: Attachement & Relations | C2: Lorsque je dois prendre une décision, il est facile pour moi de faire ce que j’ai décidé | F2: =AVERAGE(D2:E2) -> #DIV/0! | G2: =AVERAGE(D2:D5) -> #DIV/0! | H2: =AVERAGE(E2:E5) -> #DIV/0! | I2: =AVERAGE(F2:F5) -> #DIV/0!
A3: AB.Confianceautres | C3: Lorsque mon enfant a besoin d’aide, je l’aide de façon satisfaisante pour lui | F3: =AVERAGE(D3:E3) -> #DIV/0!
A4: AC.Singularité | C4: Mon enfant peut avoir des idées différentes des miennes | F4: =AVERAGE(D4:E4) -> #DIV/0!
A5: AD.communication1et2 | C5: Je sais encourager mon enfant à se confier à moi et je l’écoute attentivement | F5: =AVERAGE(D5:E5) -> #DIV/0!
A6: EA.Connaissance | B6: Emotions | C6: Je sais reconnaitre les émotions que je vis et je sais les nommer | F6: =AVERAGE(D6:E6) -> #DIV/0! | G6: =AVERAGE(D6:D9) -> #DIV/0! | H6: =AVERAGE(E6:E9) -> #DIV/0! | I6: =AVERAGE(F6:F9) -> #DIV/0!
A7: EB.Expression | C7: Il est facile pour moi de parler de ce que je ressens | F7: =AVERAGE(D7:E7) -> #DIV/0!
A8: EX.Comportement | C8: Je me rends compte de mes changements de comportement en fonction de mon émotion. (ex : la colère me fait crier, la tristesse me fait pleurer) | F8: =AVERAGE(D8:E8) -> #DIV/0!
A9: ED.Emphatie1et2 | C9: J’aide mon enfant à reconnaître et exprimer ses émotions | F9: =AVERAGE(D9:E9) -> #DIV/0!
A10: BA.Connaissance | B10: Besoins | C10: Je connais les étapes du développement de mon enfant et les besoins qu'il/elle a selon son âge | F10: =AVERAGE(D10:E10) -> #DIV/0! | G10: =AVERAGE(D10:D13) -> #DIV/0! | H10: =AVERAGE(E10:E13) -> #DIV/0! | I10: =AVERAGE(F10:F13) -> #DIV/0!
A11: BB.Expression | C11: En regardant le comportement et l'attitude de mon enfant, je peux savoir s'il a faim, soif, envie d'aller aux toilettes, de dormir, d'un câlin… | F11: =AVERAGE(D11:E11) -> #DIV/0!
A12: BC.Comportement | C12: Quand j'identifie un besoin chez mon enfant, je lui propose quelque chose qui lui est utile et qu’il accepte | F12: =AVERAGE(D12:E12) -> #DIV/0!
A13: BD.Priorisation | C13: J'arrive à organiser mon quotidien en tenant compte des besoins et du rythme de mon enfant | F13: =AVERAGE(D13:E13) -> #DIV/0!
A14: CA.Negociation | B14: Cadre Educatif | C14: Lorsque je donne une consigne à mon enfant, je prends en compte son âge et il/elle sait ce qu'il/elle doit faire | F14: =AVERAGE(D14:E14) -> #DIV/0! | G14: =AVERAGE(D14:D19) -> #DIV/0! | H14: =AVERAGE(E14:E19) -> #DIV/0! | I14: =AVERAGE(F14:F19) -> #DIV/0!
A15: CB.Roles1 | C15: Lorsque je prends une décision, je la tiens tant que les raisons qui la justifient ne changent pas | F15: =AVERAGE(D15:E15) -> #DIV/0!
A16: CC.Roles2 | C16: J'ai l'impression que j'éduque bien mes enfants | F16: =AVERAGE(D16:E16) -> #DIV/0!
A17: CD.Roles3 | C17: J’ai conscience que ce que je fais a au moins autant d’importance que ce que je dis. | F17: =AVERAGE(D17:E17) -> #DIV/0!
A18: CE.Coherence1 | C18: Cette question-là ne concerne pas les familles monoparentales: Avec l’autre parent, on réfléchit aux réponses que nous donnons aux enfants. Ils savent que si l'un des deux a dit non, cela ne sert à rien de demander l'avis de l'autre | F18: =AVERAGE(D18:E18) -> #DIV/0!
A19: CE.Coherence2 | C19: Les règles et principes de base à la maison (dans les grandes lignes) sont valables aussi bien pour tous les enfants que pour les adultes. | F19: =AVERAGE(D19:E19) -> #DIV/0!
A20: SA.Comprehensioncadre | B20: Surpoids & Obésité | C20: J'arrive à expliquer avec des mots simples ce que j'attends de mon enfant en ce qui concerne son surpoids | F20: =AVERAGE(D20:E20) -> #DIV/0! | G20: =AVERAGE(D20:D26) -> #DIV/0! | H20: =AVERAGE(E20:E26) -> #DIV/0! | I20: =AVERAGE(F20:F26) -> #DIV/0!
A21: SB.Comprehensionmaladie | C21: Je comprends les causes du surpoids de mon enfant (génétique, alimentation, activité physique, sommeil, écrans…) | F21: =AVERAGE(D21:E21) -> #DIV/0!
A22: SC.ComprehensionPEC1 | C22: Je suis capable d'identifier deux difficultés dans la prise en charge du surpoids de mon enfant | F22: =AVERAGE(D22:E22) -> #DIV/0!
A23: SC.ComprehensionPEC2 | C23: Je suis capable d'identifier deux points forts de mon enfant dans la prise en charge de son surpoids | F23: =AVERAGE(D23:E23) -> #DIV/0!
A24: SD.Attachement | C24: J'encourage mon enfant à mettre en place ce qu'il doit faire pour la prise en charge de son surpoids | F24: =AVERAGE(D24:E24) -> #DIV/0!
A25: SE.Alimentationemotionnelle | C25: Je connais au moins 2 activités que mon enfant peut mettre en place pour gérer ses émotions négatives (tristesse, colère, peur, dégoût, ennui …) autres que la nourriture ou les écrans | F25: =AVERAGE(D25:E25) -> #DIV/0!
A26: SF.PEC1et2 | C26: Je me sens en confiance avec les professionnels qui nous accompagnent dans la prise en charge de son surpoids et je peux leur demander de l'aide. | F26: =AVERAGE(D26:E26) -> #DIV/0!
A27: Ameliorer 1 | C27: Les deux situations que je souhaite améliorer de façon prioritaire sont
A28: Ameliorer 2
A29: Rien faire 1 | C29: Les deux situations sur lesquelles je pense que je ne peux rien faire sont
A30: Rien faire 2
C31: Les initiales de l'enfant Ex: pour Camille Dupont = CD
C32: L'année de naissance de l'enfant Ex: 2015
C33: Sexe de l'enfant G pour un garçon / F pour une fille
C34: La commune où vous consultez Ex: Dijon

Sheet D. Quest Enfants
A1: Code Parents | B1: Theme | C1: Question | D1: Ce que tu vis à la maison (0 – 10 | E1: Moyenne enfant groupe thematique
A2: AA.confiancesoi | B2: Attachement & Relations | C2: Je sais que si je prends une décision, mes parents vont me soutenir s’ils sont d’accord | E2: =AVERAGE(D2:D5) -> #DIV/0!
A3: AB.Confianceautres | C3: Je peux demander à mes parents de l'aide lors que j’en ai besoin
A4: AC.Singularité | C4: J’arrive à dire à mes parents ce que je pense, même si je ne suis pas d’accord avec eux
A5: AD.communication1et2 | C5: Quand je parle à mes parents de ce que je vis au quotidien, ils m'écoutent attentivement
A6: EA.Connaissance | B6: Emotions | C6: Je sais reconnaitre les émotions que je vis et je sais les nommer | E6: =AVERAGE(D6:D9) -> #DIV/0!
A7: EB.Expression | C7: Il est facile pour moi de parler de ce que je ressens
A8: EX.Comportement | C8: Je me rends compte de mes changements de comportement en fonction de mon émotion (la colère me fait crier, la tristesse me fait pleurer)
A9: ED.Emphatie1et2 | C9: Je me rends compte qu’un même évènement peut produire, chez les autres, des émotions différentes des miennes
A10: BA.Connaissance | B10: Besoins | C10: Je me rends compte de mes besoins (quand j'ai faim, soif, envie de dormir, d'aller aux toilettes, de repos d'un câlin…) | E10: =AVERAGE(D10:D13) -> #DIV/0!
A11: BB.Expression | C11: Je suis capable de dire mes besoins
A12: BC.Comportement | C12: Mes parents savent répondre à mes besoins et ça me fait du bien
A13: BD.Priorisation | C13: Je participe à l'organisation du quotidien (ranger ma chambre, ranger les courses, faire mon lit, mettre la table…)
A14: CA.Negociation | B14: Cadre Educatif | C14: Je peux donner mon avis à la maison et il est entendu | E14: =AVERAGE(D14:D18) -> #DIV/0!
A15: CB.Roles1et2 | C15: Quand on me donne des consignes, je les comprends et les respecte
A16: CD.Roles3 | C16: Lorsque je pense que le comportement de mes parents est adapté, je sais prendre exemple sur eux
A17: CE.Coherence1 | C17: Je connais les règles sur lesquelles mes parents ne sont pas d’accord entre eux
A18: CE.Coherence2 | C18: Lorsque les parents ont convenu quelque chose à la maison, chacun peut donner son avis et respecte la décision prise
A19: SA.Comprehensioncadre | B19: Surpoids & Obésité | C19: Je sais ce qui est négociable avec mes parents concernant mon surpoids | E19: =AVERAGE(D19:D26) -> #DIV/0!
A20: SB.Comprehensionmaladie | C20: Je comprends les raisons de ma prise de poids (génétique, alimentation, activité physique, sommeil, écrans…)
A21: SC.ComprehensionPEC1 | C21: Je suis capable d'identifier deux difficultés dans la prise en charge de mon surpoids et peux les dire à mes parents
A22: SC.ComprehensionPEC2 | C22: Je suis capable d'identifier deux points forts que j'ai dans la prise en charge de mon surpoids
A23: SD.Attachement | C23: Je me sens encouragé par mes parents et j'accepte leur aide dans la prise en charge de mon surpoids
A24: SE.Alimentationemotionnelle | C24: Je connais au moins 2 activités pour gérer mes émotions négatives (tristesse, colère, peur, dégoût, ennui …) autres que la nourriture ou les écrans
A25: SF.PEC1 | C25: Je comprends l’importance que des professionnels m'aident à gérer mon surpoids
A26: SG.PEC2 | C26: Je peux demander l'aide de mes parents en ce qui concerne la prise en charge de mon surpoids
A27: Ameliorer 1 | C27: Les deux situations que je souhaite améliorer de façon prioritaire sont
A28: Ameliorer 2
A29: Rien faire 1 | C29: Les deux situations sur lesquelles je pense que je ne peux rien faire sont
A30: Rien faire 2
A31: Nom | C31: Les initiales de ton nom et prénom Ex: pour Camille Dupont = CD
A32: Date naissance | C32: Ton année de naissance Ex: 2015
A33: Fille/Garçon | C33: Ton sexe G pour un garçon / F pour une fille
A34: Ville | C34: La commune où se trouve le professionnel Ex: Dijon
C35: Avec qui vis-tu ? (Choisis une seule option, en mettant un X)
C36: avec mes parents
C37: avec papa uniquement
C38: avec papa la pluspart du temps
C39: garde alternée (un peu avec papa et un peu avec maman)
C40: avec maman la plupart du temps
...

Sheet E. Synthèse compétences
B1: THEME | C1: Code Parents | D1: Compétence Parent | E1: Questionnaire Parents | F1: Père Parent 1 | G1: Mère Parent 2 | H1: Parents | I1: Code Parents | J1: Compétence Enfant | K1: Questionnaire Enfants | L1: Enfant | O1: ATTACHEMENT & RELATIONS | AK1: points forts | AL1: points faibles | AM1: ecart | AN1: points forts
A2: Attachement & Relations | B2: Confiance en soi | C2: AA.confiancesoi | D2: Être soi-même sécure | E2: Lorsque je dois prendre une décision, il est facile pour moi de faire ce que j’ai décidé | F2: ='C. Quest Parents'!D2 -> 0 | G2: ='C. Quest Parents'!E2 -> 0 | H2: ='C. Quest Parents'!F2 -> #DIV/0! | I2: AA.confiancesoi | J2: S’appuyer sur les compétences parentales | K2: Je sais que si je prends une décision, mes parents vont me soutenir s’ils sont d’accord | L2: ='D. Quest Enfants'!D2 -> 0 | AK2: =COUNTIFS(H2,">=8",L2,">=8") -> 0 | AL2: =COUNTIFS(H2,"<=4",L2,"<=4") -> 0 | AM2: =ABS(L2-H2) -> #DIV/0! | AN2: =COUNTIFS(K2,">=8",O2,">=8") -> 0
A3: Attachement & Relations | B3: Confiance en sa capacité à répondre aux besoins de son enfant / Confiance aux autres | C3: AB.Confianceautres | D3: Garantir le sentiment de sécurité de ses enfants | E3: Lorsque mon enfant a besoin d’aide, je l’aide de façon satisfaisante pour lui | F3: ='C. Quest Parents'!D3 -> 0 | G3: ='C. Quest Parents'!E3 -> 0 | H3: ='C. Quest Parents'!F3 -> #DIV/0! | I3: AB.Confianceautres | J3: Avoir confiance en ses parents | K3: Je peux demander à mes parents de l'aide lors que j’en ai besoin | L3: ='D. Quest Enfants'!D3 -> 0 | AK3: =COUNTIFS(H3,">=8",L3,">=8") -> 0 | AL3: =COUNTIFS(H3,"<=4",L3,"<=4") -> 0 | AM3: =ABS(L3-H3) -> #DIV/0!
A4: Attachement & Relations | B4: Compréhension de la singularité de chacun | C4: AC.Singularité | D4: Reconnaitre son enfant dans sa singularité et le détacher de son histoire personnelle | E4: Mon enfant peut avoir des idées ou des émotions différentes des miennes | F4: ='C. Quest Parents'!D4 -> 0 | G4: ='C. Quest Parents'!E4 -> 0 | H4: ='C. Quest Parents'!F4 -> #DIV/0! | I4: AC.Singularité | J4: Exprimer ses propres besoins en lien avec son identité personnelle | K4: J’arrive à dire à mes parents ce que je pense, même si je ne suis pas d’accord avec eux | L4: ='D. Quest Enfants'!D4 -> 0 | AK4: =COUNTIFS(H4,">=8",L4,">=8") -> 0 | AL4: =COUNTIFS(H4,"<=4",L4,"<=4") -> 0 | AM4: =ABS(L4-H4) -> #DIV/0!
A5: Attachement & Relations | B5: Communication | C5: AD.communication1et2 | D5: Communiquer avec son enfant de façon adaptée en favorisant un climat de confiance | E5: Je sais encourager mon enfant à se confier à moi et je l’écoute attentivement | F5: ='C. Quest Parents'!D5 -> 0 | G5: ='C. Quest Parents'!E5 -> 0 | H5: ='C. Quest Parents'!F5 -> #DIV/0! | I5: AD.communication1 | J5: S'exprimer librement | K5: Quand je parle à mes parents de ce que je vis au quotidien, ils m'écoutent attentivement | L5: ='D. Quest Enfants'!D5 -> 0 | AK5: =COUNTIFS(H5,">=8",L5,">=8") -> 0 | AL5: =COUNTIFS(H5,"<=4",L5,"<=4") -> 0 | AM5: =ABS(L5-H5) -> #DIV/0!
I6: AD.communication2 | J6: Comprendre l'importance de communiquer | AK6: =COUNTIFS(H5,">=8",L5,">=8") -> 0 | AL6: =COUNTIFS(H5,"<=4",L5,"<=4") -> 0 | AM6: =ABS(L6-H6) -> 0
A7: Emotions | B7: Connaissance, compréhension | C7: EA.Connaissance | D7: Reconnaître et verbaliser ses propres émotions | E7: Je sais reconnaitre les émotions que je vis et je sais les nommer | F7: ='C. Quest Parents'!D6 -> 0 | G7: ='C. Quest Parents'!E6 -> 0 | H7: ='C. Quest Parents'!F6 -> #DIV/0! | I7: EA.Connaissance | J7: Reconnaître et verbaliser ses propres émotions | K7: Je sais reconnaitre les émotions que je vis et je sais les nommer | L7: ='D. Quest Enfants'!D6 -> 0 | AK7: =COUNTIFS(H7,">=8",L7,">=8") -> 0 | AL7: =COUNTIFS(H7,"<=4",L7,"<=4") -> 0 | AM7: =ABS(L7-H7) -> #DIV/0!
A8: Emotions | B8: Expression | C8: EB.Expression | D8: Expliciter ses propres émotions à son entourage de façon adaptée en fonction de l'interlocuteur | E8: Il est facile pour moi de parler de ce que je ressens | F8: ='C. Quest Parents'!D7 -> 0 | G8: ='C. Quest Parents'!E7 -> 0 | H8: ='C. Quest Parents'!F7 -> #DIV/0! | I8: EB.Expression | J8: Expliciter ses propres émotions à son entourage | K8: Il est facile pour moi de parler de ce que je ressens | L8: ='D. Quest Enfants'!D7 -> 0 | AK8: =COUNTIFS(H8,">=8",L8,">=8") -> 0 | AL8: =COUNTIFS(H8,"<=4",L8,"<=4") -> 0 | AM8: =ABS(L8-H8) -> #DIV/0!
A9: Emotions | B9: Comportement | C9: EX.Comportement | D9: Mettre en lien un comportement spécifique et une émotion | E9: Je me rends compte de mes changements de comportement en fonction de mon émotion (ex : la colère me fait crier, la tristesse me fait pleurer) | F9: ='C. Quest Parents'!D8 -> 0 | G9: ='C. Quest Parents'!E8 -> 0 | H9: ='C. Quest Parents'!F8 -> #DIV/0! | I9: EX.Comportement | J9: Repérer les comportements qui découlent de ses émotions | K9: Je me rends compte de mes changements de comportement en fonction de mon émotion (la colère me fait crier, la tristesse me fait pleurer) | L9: ='D. Quest Enfants'!D8 -> 0 | O9: EMOTIONS | AK9: =COUNTIFS(H9,">=8",L9,">=8") -> 0 | AL9: =COUNTIFS(H9,"<=4",L9,"<=4") -> 0 | AM9: =ABS(L9-H9) -> #DIV/0!
A10: Emotions | B10: Empathie | C10: ED.Emphatie1et2 | D10: Favoriser l’expression des émotions des membres de sa famille | E10: J’aide mon enfant à reconnaître et exprimer ses émotions | F10: ='C. Quest Parents'!D9 -> 0 | G10: ='C. Quest Parents'!E9 -> 0 | H10: ='C. Quest Parents'!F9 -> #DIV/0! | I10: ED.Emphatie1 | J10: Être capable d’entendre et comprendre les émotions des autres | K10: Je me rends compte qu’un même évènement peut produire, chez les autres, des émotions différentes des miennes | L10: ='D. Quest Enfants'!D9 -> 0 | AK10: =COUNTIFS(H10,">=8",L10,">=8") -> 0 | AL10: =COUNTIFS(H10,"<=4",L10,"<=4") -> 0 | AM10: =ABS(L10-H10) -> #DIV/0!
I11: ED.Emphatie2 | J11: Dissocier ses émotions de celles de ses parents | AK11: =COUNTIFS(H10,">=8",L10,">=8") -> 0 | AL11: =COUNTIFS(H10,"<=4",L10,"<=4") -> 0 | AM11: =ABS(L11-H11) -> 0
A12: Besoins | B12: Connaissance et compréhension (développement de l'enfant) | C12: BA.Connaissance | D12: Avoir des repères sur les besoins physiologiques de l'enfant en fonction de son développement | E12: Je connais les étapes du développement de mon enfant et les besoins qu'il/elle a selon son âge | F12: ='C. Quest Parents'!D10 -> 0 | G12: ='C. Quest Parents'!E10 -> 0 | H12: ='C. Quest Parents'!F10 -> #DIV/0! | I12: BA.Connaissance | J12: Identifier ses besoins physiologiques | K12: Je me rends compte de mes besoins (quand j'ai faim, soif, envie de dormir, d'aller aux toilettes, de repos d'un câlin…) | L12: ='D. Quest Enfants'!D10 -> 0 | AK12: =COUNTIFS(H12,">=8",L12,">=8") -> 0 | AL12: =COUNTIFS(H12,"<=4",L12,"<=4") -> 0 | AM12: =ABS(L12-H12) -> #DIV/0!
A13: Besoins | B13: Expression | C13: BB.Expression | D13: Identifier les besoins de son enfant à travers ses attitudes et ses comportements. | E13: En regardant le comportement et l'attitude de mon enfant, je peux savoir s'il a faim, soif, envie d'aller aux toilettes, de dormir, d'un câlin… | F13: ='C. Quest Parents'!D11 -> 0 | G13: ='C. Quest Parents'!E11 -> 0 | H13: ='C. Quest Parents'!F11 -> #DIV/0! | I13: BB.Expression | J13: Savoir exprimer ses besoins physiologiques | K13: Je suis capable de dire mes besoins | L13: ='D. Quest Enfants'!D11 -> 0 | AK13: =COUNTIFS(H13,">=8",L13,">=8") -> 0 | AL13: =COUNTIFS(H13,"<=4",L13,"<=4") -> 0 | AM13: =ABS(L13-H13) -> #DIV/0!
A14: Besoins | B14: Comportement | C14: BC.Comportement | D14: Répondre de façon adaptée en fonction du développement de son enfant | E14: Quand j'identifie un besoin chez mon enfant, je lui propose quelque chose qui lui est utile et qu’il accepte | F14: ='C. Quest Parents'!D12 -> 0 | G14: ='C. Quest Parents'!E12 -> 0 | H14: ='C. Quest Parents'!F12 -> #DIV/0! | I14: BC.Comportement | J14: Expérimenter le bénéfice de la réponse apportée par les parents | K14: Mes parents savent répondre à mes besoins et ça me fait du bien | L14: ='D. Quest Enfants'!D12 -> 0 | AK14: =COUNTIFS(H14,">=8",L14,">=8") -> 0 | AL14: =COUNTIFS(H14,"<=4",L14,"<=4") -> 0 | AM14: =ABS(L14-H14) -> #DIV/0!
A15: Besoins | B15: Priorisation | C15: BD.Priorisation | D15: Prioriser, anticiper et organiser le quotidien | E15: J'arrive à organiser mon quotidien en tenant compte des besoins et du rythme de mon enfant | F15: ='C. Quest Parents'!D13 -> 0 | G15: ='C. Quest Parents'!E13 -> 0 | H15: ='C. Quest Parents'!F13 -> #DIV/0! | I15: BD.Priorisation | J15: S'impliquer et trouver sa place dans l'organisation familiale | K15: Je participe à l'organisation du quotidien (ranger ma chambre, ranger les courses, faire mon lit, mettre la table…) | L15: ='D. Quest Enfants'!D13 -> 0 | AK15: =COUNTIFS(H15,">=8",L15,">=8") -> 0 | AL15: =COUNTIFS(H15,"<=4",L15,"<=4") -> 0 | AM15: =ABS(L15-H15) -> #DIV/0!
B16: THEME | C16: Code Parents | D16: Compétence Parent | E16: Questionnaire Parents | F16: Père Parent 1 | G16: Mère Parent 2 | H16: Parents | I16: Code Parents | J16: Compétence Enfant | K16: Questionnaire Enfants | L16: Enfant
A17: Cadre Educatif | B17: Négociation - style démocratique | C17: CA.Negociation | D17: Apprendre à poser un cadre éducatif en favorisant l’autonomie (en fonction de l’âge) et en ayant intégré le bénéfice pour l’enfant | E17: Lorsque je donne une consigne à mon enfant, je prends en compte son âge et il/elle sait ce qu'il/elle doit faire | F17: ='C. Quest Parents'!D14 -> 0 | G17: ='C. Quest Parents'!E14 -> 0 | H17: ='C. Quest Parents'!F14 -> #DIV/0! | I17: CA.Negociation | J17: Prendre part aux décisions le concernant, tout en respectant le cadre instauré | K17: Je peux donner mon avis à la maison et il est entendu | L17: ='D. Quest Enfants'!D14 -> 0 | O17: BESOINS | AK17: =COUNTIFS(H17,">=8",L17,">=8") -> 0 | AL17: =COUNTIFS(H17,"<=4",L17,"<=4") -> 0 | AM17: =ABS(L17-H17) -> #DIV/0!
A18: Cadre Educatif | B18: Rôles - Maintien / Respect du cadre | C18: CB.Roles1 | D18: Apprendre à maintenir les règles sur le long terme ou à les adapter si nécessaire | E18: Lorsque je prends une décision, je la tiens tant que les raisons qui la justifient ne changent pas | F18: ='C. Quest Parents'!D15 -> 0 | G18: ='C. Quest Parents'!E15 -> 0 | H18: ='C. Quest Parents'!F15 -> #DIV/0! | I18: CB.Roles1et2 | J18: Apprendre à respecter le cadre et les consignes données | K18: Quand on me donne des consignes, je les comprends et les respecte | L18: ='D. Quest Enfants'!D15 -> 0 | AK18: =COUNTIFS(H18,">=8",L18,">=8") -> 0 | AL18: =COUNTIFS(H18,"<=4",L18,"<=4") -> 0 | AM18: =ABS(L18-H18) -> #DIV/0!
A19: Cadre Educatif | B19: Rôles - Auto-efficacité / Respect du cadre | C19: CC.Roles2 | D19: Restaurer son sentiment d’auto-efficacité | E19: J'ai l'impression que j'éduque bien mes enfants | F19: ='C. Quest Parents'!D16 -> 0 | G19: ='C. Quest Parents'!E16 -> 0 | H19: ='C. Quest Parents'!F16 -> #DIV/0! | AK19: =COUNTIFS(H19,">=8",L18,">=8") -> 0 | AL19: =COUNTIFS(H19,"<=4",L18,"<=4") -> 0 | AM19: =ABS(L19-H19) -> #DIV/0!
A20: Cadre Educatif | B20: Rôles - Exemplarité des parents | C20: CD.Roles3 | D20: Être conscient de son rôle d’exemple | E20: J’ai conscience que ce que je fais a au moins autant d’importance que ce que je dis. | F20: ='C. Quest Parents'!D17 -> 0 | G20: ='C. Quest Parents'!E17 -> 0 | H20: ='C. Quest Parents'!F17 -> #DIV/0! | I20: CD.Roles3 | J20: Prendre modèle sur ses parents (en tenant compte de ce qui est possible à certains âges et pas à d’autres et des limites des parents) | K20: Lorsque je pense que le comportement de mes parents est adapté, je sais prendre exemple sur eux | L20: ='D. Quest Enfants'!D16 -> 0 | AK20: =COUNTIFS(H20,">=8",L20,">=8") -> 0 | AL20: =COUNTIFS(H20,"<=4",L20,"<=4") -> 0 | AM20: =ABS(L20-H20) -> #DIV/0!
A21: Cadre Educatif | B21: Cadre commun et différence des parents | C21: CE.Coherence1 | D21: S'accorder sur un cadre commun entre parents en respectant les différences et le rôle de chacun | E21: Avec l’autre parent, on réfléchit aux réponses que nous donnons aux enfants. Ils savent que si l'un des deux a dit non, cela ne sert à rien de demander l'avis de l'autre | F21: ='C. Quest Parents'!D18 -> 0 | G21: ='C. Quest Parents'!E18 -> 0 | H21: ='C. Quest Parents'!F18 -> #DIV/0! | I21: CE.Coherence1 | J21: Repérer les différences entre les deux parents | K21: Je connais les règles sur lesquelles mes parents ne sont pas d’accord entre eux | L21: ='D. Quest Enfants'!D17 -> 0 | AK21: =COUNTIFS(H21,">=8",L21,">=8") -> 0 | AL21: =COUNTIFS(H21,"<=4",L21,"<=4") -> 0 | AM21: =ABS(L21-H21) -> #DIV/0!
A22: Cadre Educatif | B22: Harmonisation de pratiques et négociation | C22: CE.Coherence2 | D22: Harmoniser les pratiques éducatives à l'échelle familiale | E22: Les règles et principes de base à la maison (dans les grandes lignes) sont valables aussi bien pour tous les enfants que pour les adultes. | F22: ='C. Quest Parents'!D19 -> 0 | G22: ='C. Quest Parents'!E19 -> 0 | H22: ='C. Quest Parents'!F19 -> #DIV/0! | I22: CE.Coherence2 | J22: Comprendre l'intérêt des mesures mises en place par les parents pour toute la famille, pour mieux les intégrer (et négocier si besoin) | K22: Lorsque les parents ont convenu quelque chose à la maison, chacun peut donner son avis et respecte la décision prise | L22: ='D. Quest Enfants'!D18 -> 0 | AK22: =COUNTIFS(H22,">=8",L22,">=8") -> 0 | AL22: =COUNTIFS(H22,"<=4",L22,"<=4") -> 0 | AM22: =ABS(L22-H22) -> #DIV/0!
A23: Surpoids & Obésité | B23: Compréhension du cadre éducatif et relationnel | C23: SA.Comprehensioncadre | D23: Être clair dans les consignes en lien avec la pathologie de leur enfant | E23: J'arrive à expliquer avec des mots simples ce que j'attends de mon enfant en ce qui concerne son surpoids | F23: ='C. Quest Parents'!D20 -> 0 | G23: ='C. Quest Parents'!E20 -> 0 | H23: ='C. Quest Parents'!F20 -> #DIV/0! | I23: SA.Comprehensioncadre | J23: Savoir ce qui est négociable et ce qui ne l’est pas en fonction de l’âge | K23: Je sais ce qui est négociable avec mes parents concernant mon surpoids | L23: ='D. Quest Enfants'!D10 -> 0 | O23: CADRE EDUCATIF | AK23: =COUNTIFS(H23,">=8",L23,">=8") -> 0 | AL23: =COUNTIFS(H23,"<=4",L23,"<=4") -> 0 | AM23: =ABS(L23-H23) -> #DIV/0!
A24: Surpoids & Obésité | B24: Compréhension de la maladie selon les grands groupes de facteurs | C24: SB.Comprehensionmaladie | D24: Comprendre les raisons du surpoids de son enfant (alimentation, activité physique, sommeil, écrans…) | E24: Je comprends les causes du surpoids de mon enfant (génétique, alimentation, activité physique, sommeil, écrans…) | F24: ='C. Quest Parents'!D21 -> 0 | G24: ='C. Quest Parents'!E21 -> 0 | H24: ='C. Quest Parents'!F21 -> #DIV/0! | I24: SB.Comprehensionmaladie | J24: Comprendre les raisons de sa prise de poids | K24: Je comprends les raisons de ma prise de poids (génétique, alimentation, activité physique, sommeil, écrans…) | L24: ='D. Quest Enfants'!D20 -> 0 | AK24: =COUNTIFS(H24,">=8",L24,">=8") -> 0 | AL24: =COUNTIFS(H24,"<=4",L24,"<=4") -> 0 | AM24: =ABS(L24-H24) -> #DIV/0!
A25: Surpoids & Obésité | B25: Compréhension PEC - freins | C25: SC.ComprehensionPEC1 | D25: Identifier les freins sur lesquels ils peuvent progresser avec leur enfant | E25: Je suis capable d'identifier deux difficultés dans la prise en charge du surpoids de mon enfant | F25: ='C. Quest Parents'!D22 -> 0 | G25: ='C. Quest Parents'!E22 -> 0 | H25: ='C. Quest Parents'!F22 -> #DIV/0! | I25: SC.ComprehensionPEC1 | J25: Identifier les freins et les partager avec ses parents | K25: Je suis capable d'identifier deux difficultés dans la prise en charge de mon surpoids et peux les dire à mes parents | L25: ='D. Quest Enfants'!D21 -> 0 | AK25: =COUNTIFS(H25,">=8",L25,">=8") -> 0 | AL25: =COUNTIFS(H25,"<=4",L25,"<=4") -> 0 | AM25: =ABS(L25-H25) -> #DIV/0!
A26: Surpoids & Obésité | B26: Compréhension PEC - leviers | C26: SC.ComprehensionPEC2 | D26: Identifier les leviers sur lesquels ils peuvent agir avec leur enfant | E26: Je suis capable d'identifier deux points forts de mon enfant dans la prise en charge de son surpoids | F26: ='C. Quest Parents'!D23 -> 0 | G26: ='C. Quest Parents'!E23 -> 0 | H26: ='C. Quest Parents'!F23 -> #DIV/0! | I26: SC.ComprehensionPEC2 | J26: Identifier les leviers et les partager avec ses parents | K26: Je suis capable d'identifier deux points forts que j'ai dans la prise en charge de mon surpoids | L26: ='D. Quest Enfants'!D22 -> 0 | AK26: =COUNTIFS(H26,">=8",L26,">=8") -> 0 | AL26: =COUNTIFS(H26,"<=4",L26,"<=4") -> 0 | AM26: =ABS(L26-H26) -> #DIV/0!
A27: Surpoids & Obésité | B27: Attachement : Soutien dans la prise en charge | C27: SD.Attachement | D27: Soutenir l’enfant dans sa prise en charge | E27: J'encourage mon enfant à mettre en place ce qu'il doit faire pour la prise en charge de son surpoids | F27: ='C. Quest Parents'!D24 -> 0 | G27: ='C. Quest Parents'!E24 -> 0 | H27: ='C. Quest Parents'!F24 -> #DIV/0! | I27: SD.Attachement | J27: Accepter l'aide de ses parents | K27: Je me sens encouragé par mes parents et j'accepte leur aide dans la prise en charge de mon surpoids | L27: ='D. Quest Enfants'!D23 -> 0 | AK27: =COUNTIFS(H27,">=8",L27,">=8") -> 0 | AL27: =COUNTIFS(H27,"<=4",L27,"<=4") -> 0 | AM27: =ABS(L27-H27) -> #DIV/0!
A28: Surpoids & Obésité | B28: Emotions Alimentation émotionnelle | C28: SE.Alimentationemotionnelle | D28: Répondre de façon adaptée à l’état émotionnel de l’enfant (ex : autrement que par l’alimentation) | E28: Je connais au 2 activités que mon enfant peut mettre en place pour gérer ses émotions négatives (tristesse, colère, peur, dégoût, ennui …) autres que la nourriture ou les écrans | F28: ='C. Quest Parents'!D25 -> 0 | G28: ='C. Quest Parents'!E25 -> 0 | H28: ='C. Quest Parents'!F25 -> #DIV/0! | I28: SE.Alimentationemotionnelle | J28: Répondre de façon adaptée à son propre état émotionnel (ex : autrement que par l’alimentation) | K28: Je connais au moins 2 activités pour gérer mes émotions négatives (tristesse, colère, peur, dégoût, ennui …) autres que la nourriture ou les écrans | L28: ='D. Quest Enfants'!D24 -> 0 | AK28: =COUNTIFS(H28,">=8",L28,">=8") -> 0 | AL28: =COUNTIFS(H28,"<=4",L28,"<=4") -> 0 | AM28: =ABS(L28-H28) -> #DIV/0!
A29: Surpoids & Obésité | B29: Prise en charge a. Intérêt b. Demander de l'aide | C29: SF.PEC1et2 | D29: Solliciter l'aide des professionnels de santé spécialisés en faisant alliance avec eux | E29: Je me sens en confiance avec les professionnels qui accompagnement mon enfant dans la prise en charge de son surpoids et je peux leur demander de l'aide. | F29: ='C. Quest Parents'!D26 -> 0 | G29: ='C. Quest Parents'!E26 -> 0 | H29: ='C. Quest Parents'!F26 -> #DIV/0! | I29: SF.PEC1 | J29: Percevoir l'intérêt d'être accompagné dans la PEC et s'y investir | K29: Je comprends l’importance que des professionnels m'aident à gérer mon surpoids | L29: ='D. Quest Enfants'!D25 -> 0 | AK29: =COUNTIFS(H29,">=8",L29,">=8") -> 0 | AL29: =COUNTIFS(H29,"<=4",L29,"<=4") -> 0 | AM29: =ABS(L29-H29) -> #DIV/0!
I30: SG.PEC2 | J30: Demander de l'aide à ses parents pour une PEC adaptée | K30: Je peux demander l'aide de mes parents en ce qui concerne la prise en charge de mon surpoids | L30: ='D. Quest Enfants'!D26 -> 0 | AK30: =COUNTIFS(H29,">=8",L30,">=8") -> 0 | AL30: =COUNTIFS(H29,"<=4",L30,"<=4") -> 0 | AM30: =ABS(L30-H30) -> 0
D32: Père Parent 1 | E32: Mère Parent 2 | F32: Parents | H32: Enfant | J32: Enfant | K32: ='C. Quest Parents'!D31 -> 0
B33: Moyenne des notes | D33: =AVERAGE(F2:F30) -> 0 | E33: =AVERAGE(G2:G30) -> 0 | F33: =AVERAGE(H2,H3,H4,H5,H7,H8,H9,H10,H12,H13,H14,H15,H17,H18,H19,H20,H21,H22,H23,H24,H25,H26,H27,H28,H29) -> #DIV/0! | H33: =AVERAGE(L2:L30) -> 0 | J33: Date de naissance | K33: ='C. Quest Parents'!D32 -> 0
B34: Medianne des notes | D34: =MEDIAN(F2:F30) -> 0 | E34: =MEDIAN(G2:G30) -> 0 | F34: =MEDIAN(H2:H30) -> #DIV/0! | H34: =MEDIAN(L2:L30) -> 0 | J34: Sexe | K34: ='C. Quest Parents'!D33 -> 0
B35: Valeur maximale | D35: =MAX(F2:F30) -> 0 | E35: =MAX(G2:G30) -> 0 | F35: =MAX(H2:H30) -> #DIV/0! | H35: =MAX(L2:L30) -> 0 | J35: Commune | K35: ='C. Quest Parents'!D34 -> 0 | O35: SURPOIDS ET OBESITE
B36: Valeur minimale | D36: =MIN(F2:F30) -> 0 | E36: =MIN(G2:G30) -> 0 | F36: =MIN(H2:H30) -> #DIV/0! | H36: =MIN(L2:L30) -> 0
C38: ='C. Quest Parents'!A31 -> 0
C39: ='C. Quest Parents'!A32 -> 0
C40: ='C. Quest Parents'!A33 -> 0
C41: ='C. Quest Parents'!A34 -> 0

Sheet F. Synthèse groupes thematique
A1: Groupe Thématique | B1: Père / Parent 1 | F1: Mère / Parent 2 | J1: Parents | N1: Enfant
B2: Moyenne | C2: Mediane | D2: Max | E2: Min | F2: Moyenne | G2: Mediane | H2: Max | I2: Min | J2: Moyenne | K2: Mediane | L2: Max | M2: Min | N2: Moyenne | O2: Mediane | P2: Max | Q2: Min
A3: Attachement & Relations | B3: =AVERAGE('C. Quest Parents'!$D2:$D5) -> #DIV/0! | C3: =MEDIAN('C. Quest Parents'!$D2:$D5) -> #NUM! | D3: =MAX('C. Quest Parents'!$D2:$D5) -> 0 | E3: =MIN('C. Quest Parents'!$D2:$D5) -> 0 | F3: =AVERAGE('C. Quest Parents'!$E2:$E5) -> #DIV/0! | G3: =MEDIAN('C. Quest Parents'!$E2:$E5) -> #NUM! | H3: =MAX('C. Quest Parents'!$E2:$E5) -> 0 | I3: =MIN('C. Quest Parents'!$E2:$E5) -> 0 | J3: =AVERAGE('C. Quest Parents'!$F2:$F5) -> #DIV/0! | K3: =MEDIAN('C. Quest Parents'!$F2:$F5) -> #DIV/0! | L3: =MAX('C. Quest Parents'!$F2:$F5) -> #DIV/0! | M3: =MIN('C. Quest Parents'!$F2:$F5) -> #DIV/0! | N3: =AVERAGE('D. Quest Enfants'!$D2:$D5) -> #DIV/0! | O3: =MEDIAN('D. Quest Enfants'!$D2:$D5) -> #NUM! | P3: =MAX('D. Quest Enfants'!$D2:$D5) -> 0 | Q3: =MIN('D. Quest Enfants'!$D2:$D5) -> 0
A4: Emotions | B4: =AVERAGE('C. Quest Parents'!$D6:$D9) -> #DIV/0! | C4: =MEDIAN('C. Quest Parents'!$D6:$D9) -> #NUM! | D4: =MAX('C. Quest Parents'!$D6:$D9) -> 0 | E4: =MIN('C. Quest Parents'!$D6:$D9) -> 0 | F4: =AVERAGE('C. Quest Parents'!$E6:$E9) -> #DIV/0! | G4: =MEDIAN('C. Quest Parents'!$E6:$E9) -> #NUM! | H4: =MAX('C. Quest Parents'!$E6:$E9) -> 0 | I4: =MIN('C. Quest Parents'!$E6:$E9) -> 0 | J4: =AVERAGE('C. Quest Parents'!$F6:$F9) -> #DIV/0! | K4: =MEDIAN('C. Quest Parents'!$F6:$F9) -> #DIV/0! | L4: =MAX('C. Quest Parents'!$F6:$F9) -> #DIV/0! | M4: =MIN('C. Quest Parents'!$F6:$F9) -> #DIV/0! | N4: =AVERAGE('D. Quest Enfants'!$D6:$D9) -> #DIV/0! | O4: =MEDIAN('D. Quest Enfants'!$D6:$D9) -> #NUM! | P4: =MAX('D. Quest Enfants'!$D6:$D9) -> 0 | Q4: =MIN('D. Quest Enfants'!$D6:$D9) -> 0
A5: Besoins | B5: =AVERAGE('C. Quest Parents'!$D10:$D13) -> #DIV/0! | C5: =MEDIAN('C. Quest Parents'!$D10:$D13) -> #NUM! | D5: =MAX('C. Quest Parents'!$D10:$D13) -> 0 | E5: =MIN('C. Quest Parents'!$D10:$D13) -> 0 | F5: =AVERAGE('C. Quest Parents'!$E10:$E13) -> #DIV/0! | G5: =MEDIAN('C. Quest Parents'!$E10:$E13) -> #NUM! | H5: =MAX('C. Quest Parents'!$E10:$E13) -> 0 | I5: =MIN('C. Quest Parents'!$E10:$E13) -> 0 | J5: =AVERAGE('C. Quest Parents'!$F10:$F13) -> #DIV/0! | K5: =MEDIAN('C. Quest Parents'!$F10:$F13) -> #DIV/0! | L5: =MAX('C. Quest Parents'!$F10:$F13) -> #DIV/0! | M5: =MIN('C. Quest Parents'!$F10:$F13) -> #DIV/0! | N5: =AVERAGE('D. Quest Enfants'!$D10:$D13) -> #DIV/0! | O5: =MEDIAN('D. Quest Enfants'!$D10:$D13) -> #NUM! | P5: =MAX('D. Quest Enfants'!$D10:$D13) -> 0 | Q5: =MIN('D. Quest Enfants'!$D10:$D13) -> 0
A6: Cadre Educatif | B6: =AVERAGE('C. Quest Parents'!$D14:$D19) -> #DIV/0! | C6: =MEDIAN('C. Quest Parents'!$D14:$D19) -> #NUM! | D6: =MAX('C. Quest Parents'!$D14:$D19) -> 0 | E6: =MIN('C. Quest Parents'!$D14:$D19) -> 0 | F6: =AVERAGE('C. Quest Parents'!$E14:$E19) -> #DIV/0! | G6: =MEDIAN('C. Quest Parents'!$E14:$E19) -> #NUM! | H6: =MAX('C. Quest Parents'!$E14:$E19) -> 0 | I6: =MIN('C. Quest Parents'!$E14:$E19) -> 0 | J6: =AVERAGE('C. Quest Parents'!$F14:$F19) -> #DIV/0! | K6: =MEDIAN('C. Quest Parents'!$F14:$F19) -> #DIV/0! | L6: =MAX('C. Quest Parents'!$F14:$F19) -> #DIV/0! | M6: =MIN('C. Quest Parents'!$F14:$F19) -> #DIV/0! | N6: =AVERAGE('D. Quest Enfants'!$D14:$D18) -> #DIV/0! | O6: =MEDIAN('D. Quest Enfants'!$D14:$D18) -> #NUM! | P6: =MAX('D. Quest Enfants'!$D14:$D18) -> 0 | Q6: =MIN('D. Quest Enfants'!$D14:$D18) -> 0
A7: Surpoids & Obésité | B7: =AVERAGE('C. Quest Parents'!$D20:$D26) -> #DIV/0! | C7: =MEDIAN('C. Quest Parents'!$D20:$D26) -> #NUM! | D7: =MAX('C. Quest Parents'!$D20:$D26) -> 0 | E7: =MIN('C. Quest Parents'!$D20:$D26) -> 0 | F7: =AVERAGE('C. Quest Parents'!$E20:$E26) -> #DIV/0! | G7: =MEDIAN('C. Quest Parents'!$E20:$E26) -> #NUM! | H7: =MAX('C. Quest Parents'!$E20:$E26) -> 0 | I7: =MIN('C. Quest Parents'!$E20:$E26) -> 0 | J7: =AVERAGE('C. Quest Parents'!$F20:$F26) -> #DIV/0! | K7: =MEDIAN('C. Quest Parents'!$F20:$F26) -> #DIV/0! | L7: =MAX('C. Quest Parents'!$F20:$F26) -> #DIV/0! | M7: =MIN('C. Quest Parents'!$F20:$F26) -> #DIV/0! | N7: =AVERAGE('D. Quest Enfants'!$D19:$D26) -> #DIV/0! | O7: =MEDIAN('D. Quest Enfants'!$D19:$D26) -> #NUM! | P7: =MAX('D. Quest Enfants'!$D19:$D26) -> 0 | Q7: =MIN('D. Quest Enfants'!$D19:$D26) -> 0
M10: Enfant | P10: ='C. Quest Parents'!D31 -> 0
M11: Date de naissance | P11: ='C. Quest Parents'!D32 -> 0
M12: Sexe | P12: ='C. Quest Parents'!D33 -> 0
M13: Commune | P13: ='C. Quest Parents'!D34 -> 0
D16: 0
A24: Groupe Thématique | F24: Il s'agit de
A25: Attachement & Relations | C25: Diagnostiquer si les parents et les enfants se sentent attachées les uns aux autres et si les parents constituent une base de sécurité solide pour les enfants, aussi bien en général, que dans le cadre de leur accompagnement pluriprofessionnel en lien avec la situation de surpoids/obésité.
A26: Emotions | C26: Comprendre si l’enfant et ses parents ont la possibilité de nommer les émotions et d’identifier le lien entre émotion et comportement. Il s’agit aussi de trouver quelques pistes sur l’accès à l’empathie en tant que capacité à reconnaître les états émotionnels d’autrui, comme étant différents des propres états internes.
A27: Besoins | C27: Avoir des informations sur la façon dont les enfants comprennent leurs propres besoins, ainsi que sur la possibilité pour les parents de comprendre ceux de leurs enfants pour y répondre. Ceci implique nécessairement de se poser des questions sur l’expression des émotions, les comportements associés et la façon de prioriser des actions (en différenciant envie, demande et besoin) et en tenant compte du développement de leurs enfants.
A28: Cadre Educatif | C28: Explorer la pertinence et la stabilité du cadre relationnel instauré par les parents, ainsi que la compréhension que les enfants ont de celui-ci. Cette exploration cherche à approfondir les habitudes de vie et les rôles attribués dans la dynamique familiale aux parents et aux enfants pouvant être en lien avec la situation de surpoids/obésité.
A29: Surpoids & Obésité | C29: Reccueillir des informations sur la connaissance dont les enfants et les parents disposent autour du surpoids et de l’obésité pédiatrique, ce qui constitue un point de départ pour des actions ETP. Il est question d’établir un diagnostic rapide sur la compréhension de la prise en charge qui pourra permettre une meilleure alliance thérapeutique.

Sheet G. Synthése Forces-Faiblesses
C1: Synthèse pour | D1: ='C. Quest Parents'!D31 -> 0 | E1: ='C. Quest Parents'!D32 -> 0 | F1: ='C. Quest Parents'!D33 -> 0 | G1: ='C. Quest Parents'!D34 -> 0
D2: et sa famille
A4: Groupe thématique | B4: Theme | C4: Competence parents | D4: Competence Enfants | E4: POINTS FORTS | F4: POINTS A AMELIORER | G4: ECART
E5: Parents et enfants ayant des notes ≥ 8 | F5: Parents et enfants ayant des notes ≤ 4 | G5: Un écart entre notes ≥ 4 | H5: note parents | I5: note enfant
A6: Attachement & Relations | B6: Confiance en soi | C6: Être soi-même sécure | D6: S’appuyer sur les compétences parentales | E6: =IF('E. Synthèse compétences'!AK2=1,B6,"") | F6: =IF('E. Synthèse compétences'!AL2=1,C6,"") | G6: =IF('E. Synthèse compétences'!AM2>=4,B6,"") -> #DIV/0! | H6: =IF('E. Synthèse compétences'!AM2>=4,'E. Synthèse compétences'!H2,"") -> #DIV/0! | I6: =IF('E. Synthèse compétences'!AM2>=4,'E. Synthèse compétences'!L2,"") -> #DIV/0!
B7: Confiance en sa capacité à répondre aux besoins de son enfant / Confiance aux autres | C7: Garantir le sentiment de sécurité de ses enfants | D7: Avoir confiance en ses parents | E7: =IF('E. Synthèse compétences'!AK3=1,B7,"") | F7: =IF('E. Synthèse compétences'!AL3=1,C7,"") | G7: =IF('E. Synthèse compétences'!AM3>=4,B7,"") -> #DIV/0! | H7: =IF('E. Synthèse compétences'!AM3>=4,'E. Synthèse compétences'!H3,"") -> #DIV/0! | I7: =IF('E. Synthèse compétences'!AM3>=4,'E. Synthèse compétences'!L3,"") -> #DIV/0!
B8: Compréhension de la singularité de chacun | C8: Reconnaitre son enfant dans sa singularité et le détacher de son histoire personnelle | D8: Exprimer ses propres besoins en lien avec son identité personnelle | E8: =IF('E. Synthèse compétences'!AK4=1,B8,"") | F8: =IF('E. Synthèse compétences'!AL4=1,C8,"") | G8: =IF('E. Synthèse compétences'!AM4>=4,B8,"") -> #DIV/0! | H8: =IF('E. Synthèse compétences'!AM4>=4,'E. Synthèse compétences'!H4,"") -> #DIV/0! | I8: =IF('E. Synthèse compétences'!AM4>=4,'E. Synthèse compétences'!L4,"") -> #DIV/0!
B9: Communication (attachement) | C9: Communiquer avec son enfant de façon adaptée en favorisant un climat de confiance | D9: S'exprimer librement Comprendre l'importance de communiquer | E9: =IF('E. Synthèse compétences'!AK5=1,B9,"") | F9: =IF('E. Synthèse compétences'!AL5=1,C9,"") | G9: =IF('E. Synthèse compétences'!AM5>=4,B9,"") -> #DIV/0! | H9: =IF('E. Synthèse compétences'!AM5>=4,'E. Synthèse compétences'!H5,"") -> #DIV/0! | I9: =IF('E. Synthèse compétences'!AM5>=4,'E. Synthèse compétences'!L5,"") -> #DIV/0!
A10: Emotions | B10: Connaissance, compréhension | C10: Reconnaître et verbaliser ses propres émotions | D10: Reconnaître et verbaliser ses propres émotions | E10: =IF('E. Synthèse compétences'!AK6=1,B10,"") | F10: =IF('E. Synthèse compétences'!AL6=1,C10,"") | G10: =IF('E. Synthèse compétences'!AM6>=4,B10,"") | H10: =IF('E. Synthèse compétences'!AM6>=4,'E. Synthèse compétences'!H6,"") | I10: =IF('E. Synthèse compétences'!AM6>=4,'E. Synthèse compétences'!L6,"")
B11: Expression des emotions | C11: Expliciter ses propres émotions à son entourage de façon adaptée en fonction de l'interlocuteur | D11: Expliciter ses propres émotions à son entourage | E11: =IF('E. Synthèse compétences'!AK7=1,B11,"") | F11: =IF('E. Synthèse compétences'!AL7=1,C11,"") | G11: =IF('E. Synthèse compétences'!AM7>=4,B11,"") -> #DIV/0! | H11: =IF('E. Synthèse compétences'!AM7>=4,'E. Synthèse compétences'!H7,"") -> #DIV/0! | I11: =IF('E. Synthèse compétences'!AM7>=4,'E. Synthèse compétences'!L7,"") -> #DIV/0!
B12: Comportement - emotions | C12: Mettre en lien un comportement spécifique et une émotion | D12: Repérer les comportements qui découlent de ses émotions | E12: =IF('E. Synthèse compétences'!AK8=1,B12,"") | F12: =IF('E. Synthèse compétences'!AL8=1,C12,"") | G12: =IF('E. Synthèse compétences'!AM8>=4,B12,"") -> #DIV/0! | H12: =IF('E. Synthèse compétences'!AM8>=4,'E. Synthèse compétences'!H8,"") -> #DIV/0! | I12: =IF('E. Synthèse compétences'!AM8>=4,'E. Synthèse compétences'!L8,"") -> #DIV/0!
B13: Empathie | C13: Favoriser l’expression des émotions des membres de sa famille | D13: Être capable d’entendre et comprendre les émotions des autres / Dissocier ses émotions de celles de ses parents | E13: =IF('E. Synthèse compétences'!AK9=1,B13,"") | F13: =IF('E. Synthèse compétences'!AL9=1,C13,"") | G13: =IF('E. Synthèse compétences'!AM9>=4,B13,"") -> #DIV/0! | H13: =IF('E. Synthèse compétences'!AM9>=4,'E. Synthèse compétences'!H9,"") -> #DIV/0! | I13: =IF('E. Synthèse compétences'!AM9>=4,'E. Synthèse compétences'!L9,"") -> #DIV/0!
A14: Besoins | B14: Connaissance et compréhension du développement de l'enfant | C14: Avoir des repères sur les besoins physiologiques de l'enfant en fonction de son développement | D14: Identifier ses besoins physiologiques | E14: =IF('E. Synthèse compétences'!AK10=1,B14,"") | F14: =IF('E. Synthèse compétences'!AL10=1,C14,"") | G14: =IF('E. Synthèse compétences'!AM10>=4,B14,"") -> #DIV/0! | H14: =IF('E. Synthèse compétences'!AM10>=4,'E. Synthèse compétences'!H10,"") -> #DIV/0! | I14: =IF('E. Synthèse compétences'!AM10>=4,'E. Synthèse compétences'!L10,"") -> #DIV/0!
B15: Expression de besoins | C15: Identifier les besoins de son enfant à travers ses attitudes et ses comportements. | D15: Savoir exprimer ses besoins physiologiques | E15: =IF('E. Synthèse compétences'!AK11=1,B15,"") | F15: =IF('E. Synthèse compétences'!AL11=1,C15,"") | G15: =IF('E. Synthèse compétences'!AM11>=4,B15,"") | H15: =IF('E. Synthèse compétences'!AM11>=4,'E. Synthèse compétences'!H11,"") | I15: =IF('E. Synthèse compétences'!AM11>=4,'E. Synthèse compétences'!L11,"")
B16: Comportement - besoins | C16: Répondre de façon adaptée en fonction du développement de son enfant | D16: Expérimenter le bénéfice de la réponse apportée par les parents | E16: =IF('E. Synthèse compétences'!AK12=1,B16,"") | F16: =IF('E. Synthèse compétences'!AL12=1,C16,"") | G16: =IF('E. Synthèse compétences'!AM12>=4,B16,"") -> #DIV/0! | H16: =IF('E. Synthèse compétences'!AM12>=4,'E. Synthèse compétences'!H12,"") -> #DIV/0! | I16: =IF('E. Synthèse compétences'!AM12>=4,'E. Synthèse compétences'!L12,"") -> #DIV/0!
B17: Priorisation de besoins | C17: Prioriser, anticiper et organiser le quotidien | D17: S'impliquer et trouver sa place dans l'organisation familiale | E17: =IF('E. Synthèse compétences'!AK13=1,B17,"") | F17: =IF('E. Synthèse compétences'!AL13=1,C17,"") | G17: =IF('E. Synthèse compétences'!AM13>=4,B17,"") -> #DIV/0! | H17: =IF('E. Synthèse compétences'!AM13>=4,'E. Synthèse compétences'!H13,"") -> #DIV/0! | I17: =IF('E. Synthèse compétences'!AM13>=4,'E. Synthèse compétences'!L13,"") -> #DIV/0!
A18: Cadre Educatif | B18: Négociation - style démocratique | C18: Apprendre à poser un cadre éducatif en favorisant l’autonomie (en fonction de l’âge) et en ayant intégré le bénéfice pour l’enfant | D18: Prendre part aux décisions le concernant, tout en respectant le cadre instauré | E18: =IF('E. Synthèse compétences'!AK14=1,B18,"") | F18: =IF('E. Synthèse compétences'!AL14=1,C18,"") | G18: =IF('E. Synthèse compétences'!AM14>=4,B18,"") -> #DIV/0! | H18: =IF('E. Synthèse compétences'!AM14>=4,'E. Synthèse compétences'!H14,"") -> #DIV/0! | I18: =IF('E. Synthèse compétences'!AM14>=4,'E. Synthèse compétences'!L14,"") -> #DIV/0!
